BEGIN:VCALENDAR
VERSION:2.0
PRODID:-//Tukios.com/
BEGIN:VEVENT
UID:7c1a2873-aafb-48a6-8ca3-56c51ad0f8a9@www.hoyfuneral.com
DTSTAMP:20260420T172848Z
DTSTART:20260421T210000Z
DTEND:20260421T230000Z
SUMMARY:Visitation
DESCRIPTION:
URL:https://www.hoyfuneral.com/obituaries/carl-longstreth
LOCATION:Hoy Kilnoski Community Room  1221 N 16th St  Council Bluffs IA 
	51501
GEO:41.2728719;-95.8666336
END:VEVENT
END:VCALENDAR