BEGIN:VCALENDAR
VERSION:2.0
PRODID:-//Tukios.com/
BEGIN:VEVENT
UID:0e544c29-f628-4b10-a88a-2ccd158974b8@www.hoyfuneral.com
DTSTAMP:20260422T202930Z
DTSTART:20260424T200000Z
DTEND:20260424T210000Z
SUMMARY:Memorial Service
DESCRIPTION:
URL:https://www.hoyfuneral.com/obituaries/roy-barnes
LOCATION:Hoy Kilnoski Funeral Home 1221 N. 16th Street  Council Bluffs IA 
	51501
GEO:41.2728719;-95.8666336
END:VEVENT
END:VCALENDAR