BEGIN:VCALENDAR
VERSION:2.0
PRODID:-//Tukios.com/
BEGIN:VEVENT
UID:dd820704-d932-4c38-ba59-2875a6b4a81c@www.hoyfuneral.com
DTSTAMP:20260419T200414Z
DTSTART:20260422T150000Z
DTEND:20260422T160000Z
SUMMARY:Funeral Service
DESCRIPTION:
URL:https://www.hoyfuneral.com/obituaries/vernetta-clingenpeel
LOCATION:Hoy Kilnoski Funeral Home 1221 N. 16th Street  Council Bluffs IA 
	51501
GEO:41.2728719;-95.8666336
END:VEVENT
END:VCALENDAR