BEGIN:VCALENDAR
VERSION:2.0
PRODID:-//Tukios.com/
BEGIN:VEVENT
UID:67141331-d544-4664-856e-7e076592d981@www.hoyfuneral.com
DTSTAMP:20260419T195819Z
DTSTART:20260421T220000Z
DTEND:20260422T000000Z
SUMMARY:Visitation
DESCRIPTION:
URL:https://www.hoyfuneral.com/obituaries/vernetta-clingenpeel
LOCATION:Hoy Kilnoski Funeral Home 1221 N. 16th Street  Council Bluffs IA 
	51501
GEO:41.2728719;-95.8666336
END:VEVENT
END:VCALENDAR